BEGIN:VCALENDAR
VERSION:2.0
PRODID:-//wp-events-plugin.com//7.2.3.1//EN
TZID:Europe/Berlin
X-WR-TIMEZONE:Europe/Berlin
BEGIN:VEVENT
UID:512@tnw.de
DTSTART;TZID=Europe/Berlin:20240915T150000
DTEND;TZID=Europe/Berlin:20240915T234500
DTSTAMP:20240903T101817Z
URL:https://tnw.de/events/bsw-der-hobby-liga-west-1-tsc-emsdetten-youngold
 -e-v/
SUMMARY:BSW der Hobby-Liga West\, 1. TSC Emsdetten "young&amp\;old" e.V. &g
 t\;Abgemeldet&lt\;
DESCRIPTION:Details zum Wettbewerb:\nTitel des Wettbewerbes: BSW der Hobbyl
 iga West\, Detten Tanzt\nStartzeit: 15:00 Uhr\nEintanzen/Stellprobe ab: 11
 :00 Uhr\nWettbewerbsart:  Formationswettbewerb für Einsteigergruppen und 
 Freizeittanzgruppen aus Tanzsportvereinen\, Tanzschulen\, Schulkooperation
 en oder andere Gruppen\, hauptsächlich im Nachwuchsbereich\nAltersbegrenz
 ung: Tänzer und Tänzerinnen ohne nennenswerte Turniererfahrung\nAnzahl P
 aare pro Formation: 4 bis 10 Paare\, auch gleichgeschlechtliche / 6 Solo T
 änzer*innen\nPflichttänze: Pflichttänze: eigene Choreographie von 3 - 4
  Minuten\, davon ca. 75% aus dem 10-Tänzebereich\, inkl. R ́n ́R\, Boog
 ie\, Salsa u.ä. / keine Highlights oder Hebefiguren\nAnzahl der Durchgän
 ge: 2\, bestehend aus Vorrunde und Endrunde (Kleines &amp\; großes Finale
 )\nEinschränkungen: Formation darf in keinem Ligabetrieb getanzt haben\nm
 ax\, Formationen: 8\nTeilnahme: Kostenlos\nAnmerkungen: Es gibt Pokale und
  Medaillen\n\nDetails zum Ausrichter:\nMeldung an: 1. TSC Emsdetten "young
 &amp\;old" e.V.\nKontaktperson: Julian Schulte-Austum\nStraße: Rheiner St
 raße 142\nPLZ\, Ort: 48282 Emsdetten\nTelefon: 02572 86161\nE-Mail: info@
 tanzsport-emsdetten.de\nMeldeschluss: 25.08.2024\nTelefon am Veranstaltung
 sort: 015787097344\nWebsite: www.tanzsport-emsdetten.de
CATEGORIES:Breitensport,BSW-Termine
LOCATION:1. TSC Emsdetten "young&amp\;old" e.V.\, Euregiohalle\, Albertstra
 ße\, Emsdetten\, NRW\, 48282\, Deutschland
X-APPLE-STRUCTURED-LOCATION;VALUE=URI;X-ADDRESS=Euregiohalle\, Albertstraß
 e\, Emsdetten\, NRW\, 48282\, Deutschland;X-APPLE-RADIUS=100;X-TITLE=1. TS
 C Emsdetten \"young&old\" e.V.:geo:0,0
END:VEVENT
BEGIN:VTIMEZONE
TZID:Europe/Berlin
X-LIC-LOCATION:Europe/Berlin
BEGIN:DAYLIGHT
DTSTART:20240331T030000
TZOFFSETFROM:+0100
TZOFFSETTO:+0200
TZNAME:CEST
END:DAYLIGHT
END:VTIMEZONE
END:VCALENDAR