BEGIN:VCALENDAR
VERSION:2.0
PRODID:-//wp-events-plugin.com//7.2.3.1//EN
TZID:Europe/Berlin
X-WR-TIMEZONE:Europe/Berlin
BEGIN:VEVENT
UID:710@tnw.de
DTSTART;TZID=Europe/Berlin:20260321T123000
DTEND;TZID=Europe/Berlin:20260321T234500
DTSTAMP:20260316T081807Z
URL:https://tnw.de/events/bsw-einzelpaarwettbewerb-fuer-erwachsene-ab-19-j
 ahren/
SUMMARY:BSW – Einzelpaarwettbewerb für Erwachsene ab 19 Jahren
DESCRIPTION:Details zum Wettbewerb:\nTitel des Wettbewerbes: BSW-Einzelpaar
 wettbewerb\nStartzeit: 12:30 Uhr\nEintanzen ab: 12:00 Uhr\nWettbewerbsart:
  Einzelpaar-BSW\nAltersgruppe: Erwachsene ab 19 Jahren\nPflichttänze: LW\
 , TG\nWahltänze: 2 aus QU\, CC\, RU\nAnzahl der Durchgänge: 2 Durchgäng
 e (beide Wertungen zählen für das Ergebnis)\nTeilnehmerzahl max: offen\n
 Information für Paare: Keine Zulassung von Turnierpaaren. Zulässig für 
 Nachwuchspaare und Breitensportpass-Inhaber.\n\nDetails zum Ausrichter:\nM
 eldung an:  TSA im Bünder Turnverein Westfalia e.V.1862\nKontaktperson: D
 r. Ekkehard Neumann\nStraße: Marktstr. 12\nPLZ\, Ort: 32257 Bünde\nTelef
 on:  0173/9516813\nE-Mail: ekkehard-dr-neumann@web.de\nMeldefrist: 17.03.2
 026\nTelefon am Veranstaltungsort: 0173/9516813\nWebsite: https://btw-buen
 de.de/tanzsport/
CATEGORIES:Breitensport,BSW-Termine
LOCATION:TSA im Bünder TV Westfalia v. 1862 e.V.\, Sporthalle Marktgymnasi
 um\, Marktstr. 12\, Bünde\, Nordrhein-Westfalen\, 32257\, Deutschland
X-APPLE-STRUCTURED-LOCATION;VALUE=URI;X-ADDRESS=Sporthalle Marktgymnasium\,
  Marktstr. 12\, Bünde\, Nordrhein-Westfalen\, 32257\, Deutschland;X-APPLE
 -RADIUS=100;X-TITLE=TSA im Bünder TV Westfalia v. 1862 e.V.:geo:0,0
END:VEVENT
BEGIN:VTIMEZONE
TZID:Europe/Berlin
X-LIC-LOCATION:Europe/Berlin
BEGIN:STANDARD
DTSTART:20251026T020000
TZOFFSETFROM:+0200
TZOFFSETTO:+0100
TZNAME:CET
END:STANDARD
END:VTIMEZONE
END:VCALENDAR