BEGIN:VCALENDAR
VERSION:2.0
PRODID:-//wp-events-plugin.com//7.2.3.1//EN
TZID:Europe/Berlin
X-WR-TIMEZONE:Europe/Berlin
BEGIN:VEVENT
UID:510@tnw.de
DTSTART;TZID=Europe/Berlin:20241005T150000
DTEND;TZID=Europe/Berlin:20241005T234500
DTSTAMP:20240712T121529Z
URL:https://tnw.de/events/bsw-einzelwettbewerb-jack-jill-fuer-teilnehmer-a
 b-18-jahre/
SUMMARY:BSW – Einzelwettbewerb Jack &amp\; Jill\, für Teilnehmer ab 18 J
 ahre
DESCRIPTION:Details zum Wettbewerb:\nTitel des Wettbewerbes: 	Ruhr Dance Do
 rtmund - Jack &amp\; Jill\nStartzeit: 	15:00 Uhr (nach dem Einzel-BSW von 
 11:00 Uhr)\nEintanzen ab: 	14:30 Uhr\nWettbewerbsart: 	Einzelpaar-BSW\nAlt
 ersgruppe: 	ab 18 bis 99 Jahre\nPflichttänze: 	LW\, TG\, QU\, CC\, RU\, J
 V\nWahltänze: 	keine\nAnzahl der Durchgänge: 	1 Durchgang\nTeilnehmerzah
 l max: 	30 Paare\nInformation für Paare: 	Paare dürfen kein gültiges St
 artbuch der C-Klasse oder höher besitzen.\nBesondere Hinweise: 	Zugelasse
 n für beliebige Tänzer in frei gewählten Rollen. Für jeden Tanz und je
 de Runde wird der jeweilige Tanzpartner \nzufällig direkt vor dem Tanz zu
 gelost.\n\nDetails zum Ausrichter:\nMeldung an: 	Tanzsportclub Dortmund e.
 V.\nKontaktperson: 	Michael Sievert\nStraße: 	Volksgartenstraße 11\nPLZ\
 , Ort: 	44388 Dortmund\nTelefon: 	+49 173 57 06 013\nE-Mail: 	michael.siev
 ert@tanzsportclub-dortmund.de\nMeldefrist: 	01.10.2024\nTelefon am Veranst
 altungsort:	+49 173 57 06 013\nWebsite:	https://tanzsportclub-dortmund.de\
 n
CATEGORIES:Breitensport,BSW-Termine
LOCATION:Tanzsportclub Dortmund\, Volksgartenstr. 11\, Dortmund\, Nordrhein
 -Westfalen\, 44388\, Deutschland
X-APPLE-STRUCTURED-LOCATION;VALUE=URI;X-ADDRESS=Volksgartenstr. 11\, Dortmu
 nd\, Nordrhein-Westfalen\, 44388\, Deutschland;X-APPLE-RADIUS=100;X-TITLE=
 Tanzsportclub Dortmund:geo:0,0
END:VEVENT
BEGIN:VTIMEZONE
TZID:Europe/Berlin
X-LIC-LOCATION:Europe/Berlin
BEGIN:DAYLIGHT
DTSTART:20240331T030000
TZOFFSETFROM:+0100
TZOFFSETTO:+0200
TZNAME:CEST
END:DAYLIGHT
END:VTIMEZONE
END:VCALENDAR