BEGIN:VCALENDAR
VERSION:2.0
PRODID:-//wp-events-plugin.com//7.2.3.1//EN
TZID:Europe/Berlin
X-WR-TIMEZONE:Europe/Berlin
BEGIN:VEVENT
UID:122@tnw.de
DTSTART;TZID=Europe/Berlin:20211114T110000
DTEND;TZID=Europe/Berlin:20211114T234500
DTSTAMP:20210928T112649Z
URL:https://tnw.de/events/bsw-einzelwettbewerb-kids-teens-trophy-3/
SUMMARY:BSW – Einzelwettbewerb\, Kids &amp\; Teens Trophy
DESCRIPTION:Veranstaltungstitel: Kids &amp\; Teens Trophy\nWettbewerbsart: 
 Einzelwettbewerb\nAltersgruppe: Kinder (5-12 Jahre) und Jugend (13-18 Jahr
 e)\nPflichttänze: LW\, CC\nWahltänze: 1 aus TG\, WW\, SF\, QU\, SA\, RB\
 , PD\, JV\, DF\n2 Durchgänge (beide Wertungen zählen für das Ergebnis)\
 nEinschränkungen:\nPaare dürfen kein gültiges Startbuch der C-Klasse od
 er höher besitzen.\nTeilnehmerzahl max.: offen\nMeldeschluss: 05.11.2021\
 nEintanzen ab: 10:00 Uhr\nTelefon am Veranstaltungsort: 0228 476299\n\nMel
 dung an:\nTSC Blau-Gold Rondo-Bonn e.V. \nAuguststr. 4 \n53229 Bonn\nTel.:
  0228 476299\nMail: turnier@rondo-bonn.de\n
CATEGORIES:BSW-Termine
LOCATION:TSC Blau-Gold Rondo Bonn e.V.\, Auguststr. 4\, Bonn\, Nordrhein-We
 stfalen\, 53229\, Deutschland
X-APPLE-STRUCTURED-LOCATION;VALUE=URI;X-ADDRESS=Auguststr. 4\, Bonn\, Nordr
 hein-Westfalen\, 53229\, Deutschland;X-APPLE-RADIUS=100;X-TITLE=TSC Blau-G
 old Rondo Bonn e.V.:geo:0,0
END:VEVENT
BEGIN:VTIMEZONE
TZID:Europe/Berlin
X-LIC-LOCATION:Europe/Berlin
BEGIN:STANDARD
DTSTART:20211031T020000
TZOFFSETFROM:+0200
TZOFFSETTO:+0100
TZNAME:CET
END:STANDARD
END:VTIMEZONE
END:VCALENDAR