BEGIN:VCALENDAR
VERSION:2.0
PRODID:-//wp-events-plugin.com//7.2.3.1//EN
TZID:Europe/Berlin
X-WR-TIMEZONE:Europe/Berlin
BEGIN:VEVENT
UID:724@tnw.de
DTSTART;TZID=Europe/Berlin:20260920T110000
DTEND;TZID=Europe/Berlin:20260920T234500
DTSTAMP:20260213T095900Z
URL:https://tnw.de/events/bsw-kids-teens-trophy-2026-in-bielefeld/
SUMMARY:BSW – Kids &amp\; Teens Trophy 2026 in Bielefeld
DESCRIPTION:Details zum Wettbewerb:\nTitel des Wettbewerbes: 	Kids &amp\; T
 eens Trophy 2026\nBeginn: 	11:00 Uhr\nEintanzen ab: 	10:00 Uhr\nWettbewerb
 sart:	Solo\, Duo und Paartanz.\nAltersgruppe: 	Bambini (6 - 9 J.)\, Kids (
 10 - 14 J.) und Teens (15 - 18 J.). \nPflichttänze: 	CC\nWahltänze: 	3 a
 us LW\, TG\, QU\, RU\, JV\nAnzahl der Durchgänge: 	1\nTeilnehmerzahl max:
  	offen\nInformation für Paare: 	Startberechtigt sind bei der Kids &amp\;
  Teens Trophy 2026 ausschließlich Tänzer:innen ohne DTV-ID.	Es wird auf 
 die einzuhaltenden Bestimmungen der Kleiderordnung D - Klasse (TSO Anhang 
 1.2) und Schrittbegrenzung D - Klasse hingewiesen.\nBesondere Hinweise: 	S
 tartzeiten müssen bis spätestens Mittwoch vor der Veranstaltung auf der 
 Webseite der Vereins-Homepage und der TNW-Homepage veröffentlicht werden.
 \n	\nDetails zum Ausrichter:\nMeldung an: 	Bielefelder TC Metropol e.V.\nS
 traße: 	Meisenstr. 59\nPLZ\, Ort: 	33607 Bielefeld\nTelefon: 	0170-580789
 6\nE-Mail: 	info@tc-metropol.de\nMeldefrist: 	13.09.2026\nTelefon am Veran
 staltungsort:	0170-5807896\nWebsite:	https://tc-metropol.de/\n
CATEGORIES:Breitensport,BSW-Termine
LOCATION:Bielefelder TC Metropol\, Meisenstr. 59\, Bielefeld\, Nordrhein-We
 stfalen\, 33607\, Deutschland
X-APPLE-STRUCTURED-LOCATION;VALUE=URI;X-ADDRESS=Meisenstr. 59\, Bielefeld\,
  Nordrhein-Westfalen\, 33607\, Deutschland;X-APPLE-RADIUS=100;X-TITLE=Biel
 efelder TC Metropol:geo:0,0
END:VEVENT
BEGIN:VTIMEZONE
TZID:Europe/Berlin
X-LIC-LOCATION:Europe/Berlin
BEGIN:DAYLIGHT
DTSTART:20260329T030000
TZOFFSETFROM:+0100
TZOFFSETTO:+0200
TZNAME:CEST
END:DAYLIGHT
END:VTIMEZONE
END:VCALENDAR