BEGIN:VCALENDAR
VERSION:2.0
PRODID:-//wp-events-plugin.com//7.2.3.1//EN
TZID:Europe/Berlin
X-WR-TIMEZONE:Europe/Berlin
BEGIN:VEVENT
UID:725@tnw.de
DTSTART;TZID=Europe/Berlin:20261010T110000
DTEND;TZID=Europe/Berlin:20261010T234500
DTSTAMP:20260213T100319Z
URL:https://tnw.de/events/bsw-kids-teens-trophy-2026-in-duesseldorf/
SUMMARY:BSW – Kids &amp\; Teens Trophy 2026 in Düsseldorf
DESCRIPTION:Details zum Wettbewerb:\nTitel des Wettbewerbes: 	Kids &amp\; T
 eens Trophy 2026\nBeginn: 	11:00 Uhr\nEintanzen ab: 	10:00 Uhr\nWettbewerb
 sart: 	Solo\, Duo und Paartanz.\nAltersgruppe: 	Bambini (6 - 9 J.)\, Kids 
 (10 - 14 J.) und Teens (15 - 18 J.). \nPflichttänze: 	CC\nWahltänze: 	3 
 aus LW\, TG\, WW\, SL\, QU\, CC\, SA\, RU\, PD\, JV\nAnzahl der Durchgäng
 e: 	1\nTeilnehmerzahl max: 	offen\nInformation für Paare: 	Startberechtig
 t sind bei der Kids &amp\; Teens Trophy 2026 ausschließlich Tänzer:innen
  ohne DTV-ID.	Es wird auf die einzuhaltenden Bestimmungen der Kleiderordnu
 ng D - Klasse (TSO Anhang 1.2) und Schrittbegrenzung D - Klasse hingewiese
 n.\nBesondere Hinweise: 	Startzeiten müssen bis spätestens Mittwoch vor 
 der Veranstaltung auf der Webseite der Vereins-Homepage und der TNW-Homepa
 ge veröffentlicht werden.\n	\nDetails zum Ausrichter:\nMeldung an: 	TD TS
 C Düsseldorf Rot-Weis e.V.\nKontaktperson: 	Jennifer Bernard\nStraße: 	A
 ltenbergstr. 101\nPLZ\, Ort: 	40235 Düsseldorf\nTelefon: 	0211-68785460\n
 E-Mail: 	jugendwart@td-duesseldorf-rot-weiss.de\nMeldefrist:	03.10.2026\, 
 23:59 Uhr\nTelefon am Veranstaltungsort:	0211-68785460\nWebsite:	https://t
 d-duesseldorf-rot-weiss.de/\n
CATEGORIES:Breitensport,BSW-Termine
LOCATION:TD Tanzsportclub Düsseldorf Rot-Weiß\, Altenbergstr. 101\, Düss
 eldorf\, Nordrhein-Westfalen\, 40235\, Deutschland
X-APPLE-STRUCTURED-LOCATION;VALUE=URI;X-ADDRESS=Altenbergstr. 101\, Düssel
 dorf\, Nordrhein-Westfalen\, 40235\, Deutschland;X-APPLE-RADIUS=100;X-TITL
 E=TD Tanzsportclub Düsseldorf Rot-Weiß:geo:0,0
END:VEVENT
BEGIN:VTIMEZONE
TZID:Europe/Berlin
X-LIC-LOCATION:Europe/Berlin
BEGIN:DAYLIGHT
DTSTART:20260329T030000
TZOFFSETFROM:+0100
TZOFFSETTO:+0200
TZNAME:CEST
END:DAYLIGHT
END:VTIMEZONE
END:VCALENDAR