BEGIN:VCALENDAR
VERSION:2.0
PRODID:-//wp-events-plugin.com//7.2.3.1//EN
TZID:Europe/Berlin
X-WR-TIMEZONE:Europe/Berlin
BEGIN:VEVENT
UID:726@tnw.de
DTSTART;TZID=Europe/Berlin:20261205T110000
DTEND;TZID=Europe/Berlin:20261205T234500
DTSTAMP:20260213T100945Z
URL:https://tnw.de/events/bsw-kids-teens-trophy-2026-in-recklinghausen/
SUMMARY:BSW – Kids &amp\; Teens Trophy 2026 in Recklinghausen
DESCRIPTION:Details zum Wettbewerb:\nTitel des Wettbewerbes: 	Kids &amp\; T
 eens Trophy 2026\, Abschlussveranstaltung\nBeginn: 	11:00 Uhr\nEintanzen a
 b: 	10:00 Uhr\nWettbewerbsart: 	Solo\, Duo und Paartanz.\nAltersgruppe: 	B
 ambini (6 - 9 J.)\, Kids (10 - 14 J.) und Teens (15 - 18 J.). \nPflichttä
 nze: 	CC\nWahltänze: 	3 aus LW\, TG\, SL\, QU\, SA\, RU\, PD\, JV\nAnzahl
  der Durchgänge: 	1\nTeilnehmerzahl max: 	offen\nInformation für Paare: 
 	Startberechtigt sind bei der Kids &amp\; Teens Trophy 2026 ausschließlic
 h Tänzer:innen ohne DTV-ID.	Es wird auf die einzuhaltenden Bestimmungen d
 er Kleiderordnung D - Klasse (TSO Anhang 1.2) und Schrittbegrenzung D - Kl
 asse hingewiesen.\nBesondere Hinweise: 	Startzeiten müssen bis spätesten
 s Mittwoch vor der Veranstaltung auf der Webseite der Vereins-Homepage und
  der TNW-Homepage veröffentlicht werden.\n	\nDetails zum Ausrichter:\nMel
 dung an: 	VTG Grün Gold Recklinghausen e.V.\nStraße: 	Karlstr. 75\nPLZ\,
  Ort: 	45661 Recklinghausen\nTelefon: 	02361-8903831\nE-Mail: 	1.sportwart
 @vtg-recklinghausen.de oder Formular auf der Website\nMeldefrist: 	01.12.2
 026\, 23:59 Uhr\nTelefon am Veranstaltungsort:	0172-5741997\nWebsite:	http
 s://vtg-recklinghausen.de\n
CATEGORIES:Breitensport,BSW-Termine
LOCATION:VTG Grün-Gold Recklinghausen\, Karlstr. 75\, Recklinghausen\, Nor
 drhein-Westfalen\, 45661\, Deutschland
X-APPLE-STRUCTURED-LOCATION;VALUE=URI;X-ADDRESS=Karlstr. 75\, Recklinghause
 n\, Nordrhein-Westfalen\, 45661\, Deutschland;X-APPLE-RADIUS=100;X-TITLE=V
 TG Grün-Gold Recklinghausen:geo:0,0
END:VEVENT
BEGIN:VTIMEZONE
TZID:Europe/Berlin
X-LIC-LOCATION:Europe/Berlin
BEGIN:STANDARD
DTSTART:20261025T020000
TZOFFSETFROM:+0200
TZOFFSETTO:+0100
TZNAME:CET
END:STANDARD
END:VTIMEZONE
END:VCALENDAR