BEGIN:VCALENDAR
VERSION:2.0
PRODID:-//wp-events-plugin.com//7.2.3.1//EN
TZID:Europe/Berlin
X-WR-TIMEZONE:Europe/Berlin
BEGIN:VEVENT
UID:723@tnw.de
DTSTART;TZID=Europe/Berlin:20260614T100000
DTEND;TZID=Europe/Berlin:20260614T234500
DTSTAMP:20260213T094951Z
URL:https://tnw.de/events/bsw-kids-teens-trophy-2026-in-wetter-ruhr/
SUMMARY:BSW – Kids &amp\; Teens Trophy 2026 in Wetter-Ruhr
DESCRIPTION:Details zum Wettbewerb:\nTitel des Wettbewerbes: 	Kids &amp\; T
 eens Trophy 2026\nBeginn: 	10:00 Uhr\nEintanzen ab: 	09:00 Uhr\nWettbewerb
 sart: 	Solo\, Duo und Paartanz.\nAltersgruppe: 	Bambini (6 - 9 J.)\, Kids 
 (10 - 14 J.) und Teens (15 - 18 J.). \nPflichttänze: 	CC\nWahltänze: 	3 
 aus LW\, TG\, QU\, SA\, RU\, JV\nAnzahl der Durchgänge: 	2\nTeilnehmerzah
 l max: 	offen\nInformation für Paare: 	Startberechtigt sind bei der Kids 
 &amp\; Teens Trophy 2026 ausschließlich Tänzer:innen ohne DTV-ID.	Es wir
 d auf die einzuhaltenden Bestimmungen der Kleiderordnung D - Klasse (TSO A
 nhang 1.2) und Schrittbegrenzung D - Klasse hingewiesen.\nBesondere Hinwei
 se: 	Startzeiten müssen bis spätestens Mittwoch vor der Veranstaltung au
 f der Webseite der Vereins-Homepage und der TNW-Homepage veröffentlicht w
 erden.\n	\nDetails zum Ausrichter:\nMeldung an: 	TSZ Wetter-Ruhr e.V.\nKon
 taktperson: 	Dina Verlotski\nStraße: 	Vogelsanger Str. 64A\nPLZ\, Ort: 	5
 8300 Wetter (Ruhr)\nTelefon: 	02335-880323\nE-Mail: 	sportwart@tsz-wetter.
 de\nMeldefrist: 	30.05.2026\, 23:59 Uhr\nTelefon am Veranstaltungsort:	015
 22-1958400\nWebsite:	https://tsz-wetter.de/\n
CATEGORIES:Breitensport,BSW-Termine
LOCATION:TSZ Wetter-Ruhr e.V.\, Vogelsanger Str. 64A\, Wetter (Ruhr)\, NRW\
 , 58300\, Deutschland
X-APPLE-STRUCTURED-LOCATION;VALUE=URI;X-ADDRESS=Vogelsanger Str. 64A\, Wett
 er (Ruhr)\, NRW\, 58300\, Deutschland;X-APPLE-RADIUS=100;X-TITLE=TSZ Wette
 r-Ruhr e.V.:geo:0,0
END:VEVENT
BEGIN:VTIMEZONE
TZID:Europe/Berlin
X-LIC-LOCATION:Europe/Berlin
BEGIN:DAYLIGHT
DTSTART:20260329T030000
TZOFFSETFROM:+0100
TZOFFSETTO:+0200
TZNAME:CEST
END:DAYLIGHT
END:VTIMEZONE
END:VCALENDAR