BEGIN:VCALENDAR
VERSION:2.0
PRODID:-//wp-events-plugin.com//7.2.3.1//EN
TZID:Europe/Berlin
X-WR-TIMEZONE:Europe/Berlin
BEGIN:VEVENT
UID:511@tnw.de
DTSTART;TZID=Europe/Berlin:20241006T140000
DTEND;TZID=Europe/Berlin:20241006T234500
DTSTAMP:20240712T122022Z
URL:https://tnw.de/events/bsw-mannschaftswettbewerb-fuer-teilnehmer-ab-18-
 jahre/
SUMMARY:BSW – Mannschaftswettbewerb\, für Teilnehmer ab 18 Jahre
DESCRIPTION:Details zum Wettbewerb:\nTitel des Wettbewerbes: 	Ruhr Dance Do
 rtmund 2024\nStartzeit: 	14:00 Uhr\nEintanzen ab: 	13:00 Uhr\nWettbewerbsa
 rt: 	Mannschafts-BSW\nAltersgruppe: 	ab 18 bis 99 Jahre\nAnzahl Paare pro 
 Mannschaft: 	3 bis 5 Paaren\nAnzahl Paare in der Wertung:	3 Paare\nPflicht
 tänze: 	keine\nWahltänze: 	5 aus LW\, TG\, WW\, SL\, QU\, SA\, CC\, RU. 
 PD\, JV\nAnzahl der Durchgänge: 	2 Durchgänge (beide Wertungen zählen f
 ür das Ergebnis)\nTeilnehmerzahl max: 	6 Mannschaften\nInformation für P
 aare: 	Paare dürfen kein gültiges Startbuch der C-Klasse oder höher bes
 itzen.\nBesondere Hinweise: 	Breitensport-Wertung: (1\,0 bis 3\,0)\n\nDeta
 ils zum Ausrichter:\nMeldung an: 	Tanzsportclub Dortmund e.V.\nKontaktpers
 on: 	Michael Sievert\nStraße: 	Volksgartenstraße 11\nPLZ\, Ort: 	44388 D
 ortmund\nTelefon: 	+49 173 57 06 013\nE-Mail: 	michael.sievert@tanzsportcl
 ub-dortmund.de\nMeldefrist: 	01.10.2024\nTelefon am Veranstaltungsort:	+49
  173 57 06 013\nWebsite:	https://tanzsportclub-dortmund.de\n
CATEGORIES:Breitensport,BSW-Termine
LOCATION:Tanzsportclub Dortmund\, Volksgartenstr. 11\, Dortmund\, Nordrhein
 -Westfalen\, 44388\, Deutschland
X-APPLE-STRUCTURED-LOCATION;VALUE=URI;X-ADDRESS=Volksgartenstr. 11\, Dortmu
 nd\, Nordrhein-Westfalen\, 44388\, Deutschland;X-APPLE-RADIUS=100;X-TITLE=
 Tanzsportclub Dortmund:geo:0,0
END:VEVENT
BEGIN:VTIMEZONE
TZID:Europe/Berlin
X-LIC-LOCATION:Europe/Berlin
BEGIN:DAYLIGHT
DTSTART:20240331T030000
TZOFFSETFROM:+0100
TZOFFSETTO:+0200
TZNAME:CEST
END:DAYLIGHT
END:VTIMEZONE
END:VCALENDAR