BEGIN:VCALENDAR
VERSION:2.0
PRODID:-//wp-events-plugin.com//7.2.3.1//EN
TZID:Europe/Berlin
X-WR-TIMEZONE:Europe/Berlin
BEGIN:VEVENT
UID:507@tnw.de
DTSTART;TZID=Europe/Berlin:20250323T150000
DTEND;TZID=Europe/Berlin:20250323T234500
DTSTAMP:20250319T093903Z
URL:https://tnw.de/events/bsw-mannschaftswettbewerb-senioren-25/
SUMMARY:ABGESAGT: BSW – Mannschaftswettbewerb – Senioren
DESCRIPTION:Details zum Wettbewerb:\nTitel des Wettbewerbes: Wanderpokal de
 s Tanzzentrum-Niederrhein e.V.\nStartzeit: 15:00 Uhr\nEintanzen ab: 14:00 
 Uhr\nWettbewerbsart: Mannschaftswettbewerb\nAltersgruppe: Senioren ab 35 J
 ahre\, ein Paar darf jünger sein\nAnzahl Paare pro Mannschaft: 3 bis 5 Pa
 are\nAnzahl Paare in der Wertung: 3 Paare in der Wertung\nPflichttänze: L
 W\, TG\, QU\nWahltänze: 2 aus WW\, SF\, SA\, CC\, RU\, PD\, JV\, DF\nAnza
 hl der Durchgänge: 2 Durchgänge (beide Wertungen zählen für das Ergebn
 is)\nTeilnehmerzahl max: offen\nInformation für Paare: Teilnehmen dürfen
  auch gleichgeschlechtliche Paare (Equality)\nBesondere Hinweise: keine\n\
 nDetails zum Ausrichter:\nMeldung an: Tanzzentrum-Niederrhein e.V.\nKontak
 tperson: Hans Schwerdtfeger\nStraße/Postfach: Postfach 10 18 44\nPLZ\, Or
 t: 47463 Kamp-Lintfort\nTelefon: 02804-219461\nE-Mail: sportwart@tanzzentr
 um-niederrhein.de\nMeldefrist: 14.03.2025\nTelefon am Veranstaltungsort: 0
 157-72804837\nWebsite: http://tanzzentrum-niederrhein.de/
CATEGORIES:Breitensport,BSW-Termine
LOCATION:Tanzzentrum Niederrhein\, Rheurdter Str. 97\, Kamp-Lintfort\, Nord
 rhein-Westfalen\, 47475\, Deutschland
X-APPLE-STRUCTURED-LOCATION;VALUE=URI;X-ADDRESS=Rheurdter Str. 97\, Kamp-Li
 ntfort\, Nordrhein-Westfalen\, 47475\, Deutschland;X-APPLE-RADIUS=100;X-TI
 TLE=Tanzzentrum Niederrhein:geo:0,0
END:VEVENT
BEGIN:VTIMEZONE
TZID:Europe/Berlin
X-LIC-LOCATION:Europe/Berlin
BEGIN:STANDARD
DTSTART:20241027T020000
TZOFFSETFROM:+0200
TZOFFSETTO:+0100
TZNAME:CET
END:STANDARD
END:VTIMEZONE
END:VCALENDAR