BEGIN:VCALENDAR
VERSION:2.0
PRODID:-//wp-events-plugin.com//7.2.3.1//EN
TZID:Europe/Berlin
X-WR-TIMEZONE:Europe/Berlin
BEGIN:VEVENT
UID:707@tnw.de
DTSTART;TZID=Europe/Berlin:20261129T130000
DTEND;TZID=Europe/Berlin:20261129T234500
DTSTAMP:20260114T105247Z
URL:https://tnw.de/events/bsw-mannschaftswettbewerb-senioren-34/
SUMMARY:BSW – Mannschaftswettbewerb – Senioren
DESCRIPTION:Details zum Wettbewerb:\nTitel des Wettbewerbes: 	Advents-BSW d
 es TSC Brühl\nStartzeit: 	13:00 Uhr\nEintanzen ab: 	12:00 Uhr\nWettbewerb
 sart: 	Mannschafts-BSW\nAltersgruppe: 	Herren ab 35 Jahre\, 1 Herr darf j
 ünger sein.\nAnzahl Paare pro Mannschaft:	3 bis 5 Paare\nAnzahl Paare in 
 der Wertung:	3 Paare in der Wertung.\nPflichttänze: 	keine\nWahltänze: 	
 5 aus LW\, TG\, WW\, SL\, QU\, SA\, CC\, RU\, PD\, JV\, DF\, Salsa.\nAnzah
 l der Durchgänge:	2 Durchgänge (beide Wertungen zählen für das Ergebni
 s).\nTeilnehmerzahl max: 	12 Mannschaften\nInformation für Paare: 	Paare 
 dürfen kein gültiges Startbuch der C-Klasse oder höher besitzen.\n\nDet
 ails zum Ausrichter:\nMeldung an: 	TSC Brühl im BTV 1879 e.V.\nKontaktper
 son: 	Irmgard Schlieszus (Breitensportwartin)\nStraße: 	Bonnstr. 200b\nPL
 Z\, Ort: 	50321 Brühl\nTelefon: 	0157 74131094\nE-Mail: 	irmgard.schliesz
 us@tscbruehl.de\nMeldefrist: 	21.11.2026\nTelefon am Veranstaltungsort:	01
 57 74131094\nWebsite:	www.btvonline.de/de/sportangebote/tanzsport/\n
CATEGORIES:Breitensport,BSW-Termine
LOCATION:TSC Brühl im BTV 1879\, Anna-Seghers-Str. 1b\, Tanzsportzentrum\,
  Brühl\, Nordrhein-Westfalen\, 50321\, Deutschland
X-APPLE-STRUCTURED-LOCATION;VALUE=URI;X-ADDRESS=Anna-Seghers-Str. 1b\, Tanz
 sportzentrum\, Brühl\, Nordrhein-Westfalen\, 50321\, Deutschland;X-APPLE-
 RADIUS=100;X-TITLE=TSC Brühl im BTV 1879:geo:0,0
END:VEVENT
BEGIN:VTIMEZONE
TZID:Europe/Berlin
X-LIC-LOCATION:Europe/Berlin
BEGIN:STANDARD
DTSTART:20261025T020000
TZOFFSETFROM:+0200
TZOFFSETTO:+0100
TZNAME:CET
END:STANDARD
END:VTIMEZONE
END:VCALENDAR