BEGIN:VCALENDAR
VERSION:2.0
PRODID:-//wp-events-plugin.com//7.2.3.1//EN
TZID:Europe/Berlin
X-WR-TIMEZONE:Europe/Berlin
BEGIN:VEVENT
UID:743@tnw.de
DTSTART;TZID=Europe/Berlin:20261011T140000
DTEND;TZID=Europe/Berlin:20261011T234500
DTSTAMP:20260401T140328Z
URL:https://tnw.de/events/bsw-mannschaftswettbewerb-senioren-36/
SUMMARY:BSW – Mannschaftswettbewerb – Senioren
DESCRIPTION:Details zum Wettbewerb:\nTitel des Wettbewerbes: 	Senioren-Mann
 schaftswettbewerb\nStartzeit: 	14:00 Uhr\nEintanzen ab: 	13:00 Uhr\nWettbe
 werbsart: 	Mannschafts-BSW\nAltersgruppe: 	Herren ab 35 Jahre\, 1 Herr dar
 f jünger sein.\nAnzahl Paare pro Mannschaft:	3 bis 5 Paare\nAnzahl Paare 
 in der Wertung:	3 Paare in der Wertung\nPflichttänze: 	LW\, TG\, QU\nWahl
 tänze: 	2 aus WW\, SL\, SA\, CC\, RU\, PD\, JV\, DF\nAnzahl der Durchgän
 ge: 	2 Durchgänge (beide Wertungen zählen für das Ergebnis)\nTeilnehmer
 zahl max: 	offen\nInformation für Paare: 	Paare dürfen kein gültiges St
 artbuch der C-Klasse oder höher besitzen.\n\nDetails zum Ausrichter:\nMel
 dung an: 	TSC Mönchengladbach e.V.\nKontaktperson: 	Gabriela Ferfers-Weit
 z\nStraße: 	Dahlener Heide 22\nPLZ\, Ort: 	41179 Mönchengladbach\nTelefo
 n: 	02161-591469\nE-Mail: 	ferfers-weitz@web.de\nMeldefrist: 	04.10.2026\n
 Telefon am Veranstaltungsort:	02161-905065\nWebsite:	www.tsc-moenchengladb
 ach.de\n
CATEGORIES:Breitensport,BSW-Termine
LOCATION:TSC Mönchengladbach\, Broicher Str. 13\, Tanzforum\, Mönchenglad
 bach\, Nordrhein-Westfalen\, 41179\, Deutschland
X-APPLE-STRUCTURED-LOCATION;VALUE=URI;X-ADDRESS=Broicher Str. 13\, Tanzforu
 m\, Mönchengladbach\, Nordrhein-Westfalen\, 41179\, Deutschland;X-APPLE-R
 ADIUS=100;X-TITLE=TSC Mönchengladbach:geo:0,0
END:VEVENT
BEGIN:VTIMEZONE
TZID:Europe/Berlin
X-LIC-LOCATION:Europe/Berlin
BEGIN:DAYLIGHT
DTSTART:20260329T030000
TZOFFSETFROM:+0100
TZOFFSETTO:+0200
TZNAME:CEST
END:DAYLIGHT
END:VTIMEZONE
END:VCALENDAR