BEGIN:VCALENDAR
VERSION:2.0
PRODID:-//wp-events-plugin.com//7.2.3.1//EN
TZID:Europe/Berlin
X-WR-TIMEZONE:Europe/Berlin
BEGIN:VEVENT
UID:741@tnw.de
DTSTART;TZID=Europe/Berlin:20260531T140000
DTEND;TZID=Europe/Berlin:20260531T234500
DTSTAMP:20260401T121324Z
URL:https://tnw.de/events/bsw-senioren-mannschaftswettbewerb-4/
SUMMARY:BSW –  Senioren Mannschaftswettbewerb
DESCRIPTION:Details zum Wettbewerb:\nTitel des Wettbewerbes: 	Senioren Mann
 schaftswettbewerb\nStartzeit: 	14:00 Uhr\nEintanzen ab: 	13:00 Uhr\nWettbe
 werbsart: 	Mannschaftswettbewerb\nAltersgruppe: 	Senioren ab 35 Jahre\, 1 
 Herr darf jünger sein\nAnzahl Paare pro Mannschaft:	3-5 Paare\nAnzahl Paa
 re in der Wertung:	3 Paare in der Wertung\nPflichttänze: 	LW\, TG\, Qu\nW
 ahltänze: 	2 aus SL\, WW\, SA\, CC\, RU\, PD\, JV\, DF\nAnzahl der Durchg
 änge: 	2 Durchgänge (beide Wertungen zählen für das Ergebnis\nTeilnehm
 erzahl max: 	offen\nInformation für Paare: 	Paare dürfen kein gültiges 
 Startbuch der C-Klasse oder höher besitzen\n\nDetails zum Ausrichter:\nMe
 ldung an: 	TD TSC Düsseldorf Rot-Weis e.V.\nKontaktperson: 	Angelika Rich
 artz\nTelefon: 	0211-631674\nE-Mail: 	a.richartz@web.de\nMeldefrist: 	24.0
 5.2026\nTelefon am Veranstaltungsort: 	0211-68785460\, Handy 01784553595\n
 Website:	https://td-duesseldorf-rot-weiss.de/\n
CATEGORIES:Breitensport,BSW-Termine
LOCATION:TD Tanzsportclub Düsseldorf Rot-Weiß\, Altenbergstr. 101\, Düss
 eldorf\, Nordrhein-Westfalen\, 40235\, Deutschland
X-APPLE-STRUCTURED-LOCATION;VALUE=URI;X-ADDRESS=Altenbergstr. 101\, Düssel
 dorf\, Nordrhein-Westfalen\, 40235\, Deutschland;X-APPLE-RADIUS=100;X-TITL
 E=TD Tanzsportclub Düsseldorf Rot-Weiß:geo:0,0
END:VEVENT
BEGIN:VTIMEZONE
TZID:Europe/Berlin
X-LIC-LOCATION:Europe/Berlin
BEGIN:DAYLIGHT
DTSTART:20260329T030000
TZOFFSETFROM:+0100
TZOFFSETTO:+0200
TZNAME:CEST
END:DAYLIGHT
END:VTIMEZONE
END:VCALENDAR