BEGIN:VCALENDAR
VERSION:2.0
PRODID:-//wp-events-plugin.com//7.2.3.1//EN
TZID:Europe/Berlin
X-WR-TIMEZONE:Europe/Berlin
BEGIN:VEVENT
UID:486@tnw.de
DTSTART;TZID=Europe/Berlin:20240929T140000
DTEND;TZID=Europe/Berlin:20240929T234500
DTSTAMP:20240519T112914Z
URL:https://tnw.de/events/bsw-tnw-pokal-senioren-2024-einzelpaarwettbewerb
 -2/
SUMMARY:BSW – TNW-Pokal-Senioren 2024\, Einzelpaarwettbewerb
DESCRIPTION:Details zum Wettbewerb:\nTitel des Wettbewerbes:	BSW-TNW-Pokal 
 Senioren 2024\nStartzeit:	14:00 Uhr\nEintanzen ab:	13:00 Uhr\nWettbewerbsa
 rt:	Einzelpaarwettbewerb Standard/Latein\nAltersgruppe:	Senioren ab 35 Jah
 re.\nPflichttänze: 	LW\, TG\, QU.\nWahltänze: 	2 aus WW\, SF\, SA\, CC\,
  RU\, PD\, JV\, DF\, Salsa.\nAnzahl der Durchgänge:	Es wird eine Sichtung
 srunde getanzt (LW\, TG\, QU).\n	Nach der Sichtungsrunde werden die Paare 
 in\n	Durchgang	„A“ und „B“ eingeteilt.\n	Durchgänge „A“ und 
 “B“ werden geschachtelt (erst\n	Durchgang „A“ LW dann Durchgang 
 „B“ LW u.s.w.).\n	Die Durchgänge werden getanzt mit 5 Tänzen.\nTeiln
 ehmerzahl max:	offen\nInformation für Paare:	Es sind nur Paare aus TNW-Ve
 reinen startberechtigt.\nBesondere Hinweise:	Paare dürfen kein gültiges 
 Startbuch der C-Klasse\n	oder höher besitzen.\n	Im Anschluss des BSW find
 et eine Tanzparty statt.\n\nDetails zum Ausrichter:\nMeldung an:	TSC Mondi
 al e.V. Köln\nKontaktperson:	Karl Heinz Berger\nStraße:	Godorfer Hauptst
 r. 31a\nPLZ\, Ort:	50997 Köln\nTelefon:	02236-81608\nFax: 	02236-947713\n
 Mail:	breitensportwart@tsc-mondial.de\nMeldefrist:	19.09.2024\nTelefon am 
 Veranstaltungsort:	02203-62863\nWebsite:	https://www.tsc-mondial.de\n
CATEGORIES:Breitensport,BSW-Termine
LOCATION:TSC Mondial Köln\, Georg-Elser-Str. 1\, Köln\, Nordrhein-Westfal
 en\, 51147\, Deutschland
X-APPLE-STRUCTURED-LOCATION;VALUE=URI;X-ADDRESS=Georg-Elser-Str. 1\, Köln\
 , Nordrhein-Westfalen\, 51147\, Deutschland;X-APPLE-RADIUS=100;X-TITLE=TSC
  Mondial Köln:geo:0,0
END:VEVENT
BEGIN:VTIMEZONE
TZID:Europe/Berlin
X-LIC-LOCATION:Europe/Berlin
BEGIN:DAYLIGHT
DTSTART:20240331T030000
TZOFFSETFROM:+0100
TZOFFSETTO:+0200
TZNAME:CEST
END:DAYLIGHT
END:VTIMEZONE
END:VCALENDAR