BEGIN:VCALENDAR
VERSION:2.0
PRODID:-//wp-events-plugin.com//7.2.3.1//EN
TZID:Europe/Berlin
X-WR-TIMEZONE:Europe/Berlin
BEGIN:VEVENT
UID:722@tnw.de
DTSTART;TZID=Europe/Berlin:20261002T170000
DTEND;TZID=Europe/Berlin:20261002T213000
DTSTAMP:20260304T124732Z
URL:https://tnw.de/events/danceconvention-lizenzerhalt-trainerin-c-breiten
 sport-bachata-west-coast-swing-lg-2026-26/
SUMMARY:danceConvention - Lizenzerhalt Trainer*in C Breitensport - Bachata 
 & West Coast Swing (LG 2026-26)
DESCRIPTION:
CATEGORIES:Lizenzerhalt
LOCATION:Historische Stadthalle Wuppertal\, Johannisberg 40\, Wuppertal\, N
 ordrhein-Westfalen\, 42103\, Deutschland
X-APPLE-STRUCTURED-LOCATION;VALUE=URI;X-ADDRESS=Johannisberg 40\, Wuppertal
 \, Nordrhein-Westfalen\, 42103\, Deutschland;X-APPLE-RADIUS=100;X-TITLE=Hi
 storische Stadthalle Wuppertal:geo:0,0
END:VEVENT
BEGIN:VTIMEZONE
TZID:Europe/Berlin
X-LIC-LOCATION:Europe/Berlin
BEGIN:DAYLIGHT
DTSTART:20260329T030000
TZOFFSETFROM:+0100
TZOFFSETTO:+0200
TZNAME:CEST
END:DAYLIGHT
END:VTIMEZONE
END:VCALENDAR