BEGIN:VCALENDAR
VERSION:2.0
PRODID:-//wp-events-plugin.com//7.2.3.1//EN
TZID:Europe/Berlin
X-WR-TIMEZONE:Europe/Berlin
BEGIN:VEVENT
UID:734@tnw.de
DTSTART;TZID=Europe/Berlin:20260712T140000
DTEND;TZID=Europe/Berlin:20260712T140000
DTSTAMP:20260310T080646Z
URL:https://tnw.de/events/dtsa-abnahme-beim-tsc-blau-weiss-im-tv-1875-pade
 rborn-e-v-2/
SUMMARY:DTSA-Abnahme beim TSC Blau-Weiß im TV 1875 Paderborn e.V.
DESCRIPTION:
CATEGORIES:DTSA
LOCATION:TSC Blau Weiß im TV 1875 Paderborn e.V.\, Im Goldgrund 6a\, Pader
 born\, Nordrhein-Westfalen\, 33100\, Deutschland
X-APPLE-STRUCTURED-LOCATION;VALUE=URI;X-ADDRESS=Im Goldgrund 6a\, Paderborn
 \, Nordrhein-Westfalen\, 33100\, Deutschland;X-APPLE-RADIUS=100;X-TITLE=TS
 C Blau Weiß im TV 1875 Paderborn e.V.:geo:0,0
END:VEVENT
BEGIN:VTIMEZONE
TZID:Europe/Berlin
X-LIC-LOCATION:Europe/Berlin
BEGIN:DAYLIGHT
DTSTART:20260329T030000
TZOFFSETFROM:+0100
TZOFFSETTO:+0200
TZNAME:CEST
END:DAYLIGHT
END:VTIMEZONE
END:VCALENDAR