BEGIN:VCALENDAR
VERSION:2.0
PRODID:-//wp-events-plugin.com//7.2.3.1//EN
TZID:Europe/Berlin
X-WR-TIMEZONE:Europe/Berlin
BEGIN:VEVENT
UID:513@tnw.de
DTSTART;TZID=Europe/Berlin:20241116T150000
DTEND;TZID=Europe/Berlin:20241116T150000
DTSTAMP:20240729T090155Z
URL:https://tnw.de/events/dtsa-abnahme-im-tanzzentrum-niederrhein-e-v-2/
SUMMARY:DTSA-Abnahme im Tanzzentrum Niederrhein e.V.
DESCRIPTION:
CATEGORIES:DTSA
LOCATION:Tanzzentrum Niederrhein\, Rheurdter Str. 97\, Kamp-Lintfort\, Nord
 rhein-Westfalen\, 47475\, Deutschland
X-APPLE-STRUCTURED-LOCATION;VALUE=URI;X-ADDRESS=Rheurdter Str. 97\, Kamp-Li
 ntfort\, Nordrhein-Westfalen\, 47475\, Deutschland;X-APPLE-RADIUS=100;X-TI
 TLE=Tanzzentrum Niederrhein:geo:0,0
END:VEVENT
BEGIN:VTIMEZONE
TZID:Europe/Berlin
X-LIC-LOCATION:Europe/Berlin
BEGIN:STANDARD
DTSTART:20241027T020000
TZOFFSETFROM:+0200
TZOFFSETTO:+0100
TZNAME:CET
END:STANDARD
END:VTIMEZONE
END:VCALENDAR