BEGIN:VCALENDAR
VERSION:2.0
PRODID:-//wp-events-plugin.com//7.2.3.1//EN
TZID:Europe/Berlin
X-WR-TIMEZONE:Europe/Berlin
BEGIN:VEVENT
UID:121@tnw.de
DTSTART;TZID=Europe/Berlin:20211211T150000
DTEND;TZID=Europe/Berlin:20211211T180000
DTSTAMP:20211018T100415Z
URL:https://tnw.de/events/dtsa-bei-den-tanssportfreunden-essen-e-v/
SUMMARY:DTSA-Abnahme - Tanszportfreunde Essen
DESCRIPTION:
CATEGORIES:DTSA
LOCATION:Tanzsportfreunde Essen e.V.\, Kerckhoffstraße 62\, Essen\, NRW\, 
 45144\, Deutschland
X-APPLE-STRUCTURED-LOCATION;VALUE=URI;X-ADDRESS=Kerckhoffstraße 62\, Essen
 \, NRW\, 45144\, Deutschland;X-APPLE-RADIUS=100;X-TITLE=Tanzsportfreunde E
 ssen e.V.:geo:0,0
END:VEVENT
BEGIN:VTIMEZONE
TZID:Europe/Berlin
X-LIC-LOCATION:Europe/Berlin
BEGIN:STANDARD
DTSTART:20211031T020000
TZOFFSETFROM:+0200
TZOFFSETTO:+0100
TZNAME:CET
END:STANDARD
END:VTIMEZONE
END:VCALENDAR