BEGIN:VCALENDAR
VERSION:2.0
PRODID:-//wp-events-plugin.com//7.2.3.1//EN
TZID:Europe/Berlin
X-WR-TIMEZONE:Europe/Berlin
BEGIN:VEVENT
UID:485@tnw.de
DTSTART;TZID=Europe/Berlin:20240530T100000
DTEND;TZID=Europe/Berlin:20240530T173000
DTSTAMP:20240507T130606Z
URL:https://tnw.de/events/kadersichtung-standard-latein/
SUMMARY:Kadersichtung - Standard & Latein (LG 2024-104)
DESCRIPTION:
CATEGORIES:Kader
LOCATION:TTC Rot-Gold Köln\, Venloer Str. 1031\, Köln\, Nordrhein-Westfal
 en\, 50829\, Deutschland
X-APPLE-STRUCTURED-LOCATION;VALUE=URI;X-ADDRESS=Venloer Str. 1031\, Köln\,
  Nordrhein-Westfalen\, 50829\, Deutschland;X-APPLE-RADIUS=100;X-TITLE=TTC 
 Rot-Gold Köln:geo:0,0
END:VEVENT
BEGIN:VTIMEZONE
TZID:Europe/Berlin
X-LIC-LOCATION:Europe/Berlin
BEGIN:DAYLIGHT
DTSTART:20240331T030000
TZOFFSETFROM:+0100
TZOFFSETTO:+0200
TZNAME:CEST
END:DAYLIGHT
END:VTIMEZONE
END:VCALENDAR