BEGIN:VCALENDAR
VERSION:2.0
PRODID:-//wp-events-plugin.com//7.2.3.1//EN
TZID:Europe/Berlin
X-WR-TIMEZONE:Europe/Berlin
BEGIN:VEVENT
UID:489@tnw.de
DTSTART;TZID=Europe/Berlin;VALUE=DATE:20250208
DTEND;TZID=Europe/Berlin;VALUE=DATE:20250209
DTSTAMP:20250205T102900Z
URL:https://tnw.de/events/landesmeisterschaften-hauptgruppe-s-masters-i-s-
 latein-2025/
SUMMARY:Landesmeisterschaften Hauptgruppe S\, Masters I S Latein 2025
DESCRIPTION:Landesmeisterschaften\n\n 	17:00 Uhr: Hauptgruppe S Latein\n 	1
 7:00 Uhr: Masters I S Latein\n\nEinlass und Eintanzmöglichkeit ab 15:30 U
 hr.
CATEGORIES:Landesmeisterschaften
LOCATION:Die Residenz Münster\, Hansestraße 74\, Münster\, Nordrhein-Wes
 tfalen\, 48165\, Deutschland
X-APPLE-STRUCTURED-LOCATION;VALUE=URI;X-ADDRESS=Hansestraße 74\, Münster\
 , Nordrhein-Westfalen\, 48165\, Deutschland;X-APPLE-RADIUS=100;X-TITLE=Die
  Residenz Münster:geo:0,0
END:VEVENT
BEGIN:VTIMEZONE
TZID:Europe/Berlin
X-LIC-LOCATION:Europe/Berlin
BEGIN:STANDARD
DTSTART:20241027T020000
TZOFFSETFROM:+0200
TZOFFSETTO:+0100
TZNAME:CET
END:STANDARD
END:VTIMEZONE
END:VCALENDAR