BEGIN:VCALENDAR
VERSION:2.0
PRODID:-//wp-events-plugin.com//7.2.3.1//EN
TZID:Europe/Berlin
X-WR-TIMEZONE:Europe/Berlin
BEGIN:VEVENT
UID:492@tnw.de
DTSTART;TZID=Europe/Berlin;VALUE=DATE:20250216
DTEND;TZID=Europe/Berlin;VALUE=DATE:20250217
DTSTAMP:20250212T143131Z
URL:https://tnw.de/events/landesmeisterschaften-kinder-i-ii-d-c-junioren-i
 -d-b-junioren-ii-d-b-jugend-d-a-latein-2025/
SUMMARY:Landesmeisterschaften Kinder I/II D/C\, Junioren I D-B\, Junioren I
 I D-B\, Jugend D-A Latein 2025
DESCRIPTION:Landesmeisterschaften\nHallenöffnung: 08:15 Uhr\nEintanzen ab 
 09:00 Uhr\n\nBeginn des Turniertages: 09:55 Uhr\n\n&nbsp\;\n\n 	10:00Uhr: 
 Kinder I/II D Latein\, Junioren II D Latein\n 	11:00 Uhr: Junioren I D Lat
 ein\, Jugend D Latein\n 	11:50 Uhr: Kinder I/II C Latein\, Junioren II C L
 atein\n 	12:35 Uhr: Junioren I C Latein\, Jugend C Latein\n 	13:50 Uhr: Ju
 nioren I B Latein\, Jugend B Latein\n 	14:40 Uhr: Junioren II B Latein\n 	
 16:00 Uhr: Jugend A Latein\n\nDie Turniere werden teilweise geschachtelt d
 urchgeführt.\n\n&nbsp\;
CATEGORIES:Landesmeisterschaften
LOCATION:TC Blau-Gold Solingen\, Kyllmannweg 1\, Solingen\, Nordrhein-Westf
 alen\, 42699\, Deutschland
X-APPLE-STRUCTURED-LOCATION;VALUE=URI;X-ADDRESS=Kyllmannweg 1\, Solingen\, 
 Nordrhein-Westfalen\, 42699\, Deutschland;X-APPLE-RADIUS=100;X-TITLE=TC Bl
 au-Gold Solingen:geo:0,0
END:VEVENT
BEGIN:VTIMEZONE
TZID:Europe/Berlin
X-LIC-LOCATION:Europe/Berlin
BEGIN:STANDARD
DTSTART:20241027T020000
TZOFFSETFROM:+0200
TZOFFSETTO:+0100
TZNAME:CET
END:STANDARD
END:VTIMEZONE
END:VCALENDAR