BEGIN:VCALENDAR
VERSION:2.0
PRODID:-//wp-events-plugin.com//7.2.3.1//EN
TZID:Europe/Berlin
X-WR-TIMEZONE:Europe/Berlin
BEGIN:VEVENT
UID:488@tnw.de
DTSTART;TZID=Europe/Berlin;VALUE=DATE:20250201
DTEND;TZID=Europe/Berlin;VALUE=DATE:20250202
DTSTAMP:20250130T120245Z
URL:https://tnw.de/events/landesmeisterschaften-kinder-i-ii-d-c-junioren-i
 -ii-d-b-jugend-d-a-hauptgruppe-d-s-masters-i-d-s-latein-solo-2025/
SUMMARY:Landesmeisterschaften Kinder I/II D/C\, Junioren I/II D-B\, Jugend 
 D-A\, Hauptgruppe D-S\, Masters I-III D-S Latein Solo 2025
DESCRIPTION:Landesmeisterschaften\n\n 	11:00 Uhr: Kinder I/II D Latein Solo
 \n 	11:15 Uhr: Junioren II D Latein Solo\n 	12:00 Uhr Hauptgruppe D Latein
  Solo\n 	12:45 Uhr: Junioren I D Latein Solo\n 	13:00 Uhr: Jugend D Latein
  Solo\n 	13:05 Uhr: Masters I D Latein Solo\n 	13:15 Uhr: Masters II D Lat
 ein Solo\n 	14:00 Uhr: Junioren I C Latein Solo\n 	14:10 Uhr: Junioren II 
 C Latein Solo\n 	14:30 Uhr: Kinder I/II C Latein Solo\n 	14:40 Uhr: Jugend
  C Latein Solo\n 	15:45 Uhr: Masters I/II B/A/S Latein Solo\n 	15:55 Uhr: 
 Junioren I B Latein Solo\n 	16:05 Uhr: Junioren II B Latein Solo\n 	16:15 
 Uhr: Jugend B/A Latein Solo\n 	16:25 Uhr: Hauptgruppe B/A/S Latein Solo\n\
 n&nbsp\;
CATEGORIES:Landesmeisterschaften
LOCATION:TC Seidenstadt Krefeld\, Am Hauptbahnhof 1\, Krefeld\, Nordrhein-W
 estfalen\, 47798\, Deutschland
X-APPLE-STRUCTURED-LOCATION;VALUE=URI;X-ADDRESS=Am Hauptbahnhof 1\, Krefeld
 \, Nordrhein-Westfalen\, 47798\, Deutschland;X-APPLE-RADIUS=100;X-TITLE=TC
  Seidenstadt Krefeld:geo:0,0
END:VEVENT
BEGIN:VTIMEZONE
TZID:Europe/Berlin
X-LIC-LOCATION:Europe/Berlin
BEGIN:STANDARD
DTSTART:20241027T020000
TZOFFSETFROM:+0200
TZOFFSETTO:+0100
TZNAME:CET
END:STANDARD
END:VTIMEZONE
END:VCALENDAR